BEGIN:VCALENDAR
VERSION:2.0
PRODID:-//Every Metre Counts - ECPv6.15.20//NONSGML v1.0//EN
CALSCALE:GREGORIAN
METHOD:PUBLISH
X-WR-CALNAME:Every Metre Counts
X-ORIGINAL-URL:https://www.everymetrecounts.ca
X-WR-CALDESC:Events for Every Metre Counts
REFRESH-INTERVAL;VALUE=DURATION:PT1H
X-Robots-Tag:noindex
X-PUBLISHED-TTL:PT1H
BEGIN:VTIMEZONE
TZID:UTC
BEGIN:STANDARD
TZOFFSETFROM:+0000
TZOFFSETTO:+0000
TZNAME:UTC
DTSTART:20240101T000000
END:STANDARD
END:VTIMEZONE
BEGIN:VEVENT
DTSTART;VALUE=DATE:20250527
DTEND;VALUE=DATE:20250531
DTSTAMP:20260421T205427
CREATED:20241209T170007Z
LAST-MODIFIED:20241209T171211Z
UID:13079-1748304000-1748649599@www.everymetrecounts.ca
SUMMARY:Bike to School Week 2025
DESCRIPTION:This week students from across Canada are participating in Bike to School Week 2025! \nCheck back soon for registration information.
URL:https://www.everymetrecounts.ca/event/bike-to-school-week-2025/
END:VEVENT
BEGIN:VEVENT
DTSTART;VALUE=DATE:20250603
DTEND;VALUE=DATE:20250608
DTSTAMP:20260421T205427
CREATED:20241209T172650Z
LAST-MODIFIED:20241209T172650Z
UID:13105-1748908800-1749340799@www.everymetrecounts.ca
SUMMARY:Crossing Guard Appreciation Week 2025
DESCRIPTION:Show appreciation to your hardworking School Crossing Guards this week!
URL:https://www.everymetrecounts.ca/event/crossing-guard-appreciation-week-2025/
END:VEVENT
END:VCALENDAR